BEGIN:VCALENDAR
VERSION:2.0
PRODID:-//St Paul&#039;s Music - ECPv6.15.20//NONSGML v1.0//EN
CALSCALE:GREGORIAN
METHOD:PUBLISH
X-ORIGINAL-URL:https://www.stpaulsmusic.com.au
X-WR-CALDESC:Events for St Paul&#039;s Music
REFRESH-INTERVAL;VALUE=DURATION:PT1H
X-Robots-Tag:noindex
X-PUBLISHED-TTL:PT1H
BEGIN:VTIMEZONE
TZID:Australia/Brisbane
BEGIN:STANDARD
TZOFFSETFROM:+1000
TZOFFSETTO:+1000
TZNAME:AEST
DTSTART:20200101T000000
END:STANDARD
END:VTIMEZONE
BEGIN:VEVENT
DTSTART;VALUE=DATE:20210515
DTEND;VALUE=DATE:20210516
DTSTAMP:20260426T132057
CREATED:20201124T033429Z
LAST-MODIFIED:20210419T001604Z
UID:13179-1621036800-1621123199@www.stpaulsmusic.com.au
SUMMARY:Music in the Dark
DESCRIPTION:This is an annual event that features all St Paul’s Music ensembles. Bring a picnic rug or chair and enjoy delicious food provided by the Music Supporters Group. \nMore details and a performance schedule will be released closer to the event.
URL:https://www.stpaulsmusic.com.au/event/music-in-the-dark-2/
LOCATION:St Paul’s School\, 34 Strathpine Road\, Bald Hills\, Queensland\, 4036\, Australia
ATTACH;FMTTYPE=image/png:https://www.stpaulsmusic.com.au/wp-content/uploads/2020/11/Music-In-The-Dark-FB-banner.png
END:VEVENT
END:VCALENDAR