BEGIN:VCALENDAR
VERSION:2.0
PRODID:-//St Paul&#039;s Music - ECPv6.15.20//NONSGML v1.0//EN
CALSCALE:GREGORIAN
METHOD:PUBLISH
X-WR-CALNAME:St Paul&#039;s Music
X-ORIGINAL-URL:https://www.stpaulsmusic.com.au
X-WR-CALDESC:Events for St Paul&#039;s Music
REFRESH-INTERVAL;VALUE=DURATION:PT1H
X-Robots-Tag:noindex
X-PUBLISHED-TTL:PT1H
BEGIN:VTIMEZONE
TZID:Australia/Brisbane
BEGIN:STANDARD
TZOFFSETFROM:+1000
TZOFFSETTO:+1000
TZNAME:AEST
DTSTART:20200101T000000
END:STANDARD
END:VTIMEZONE
BEGIN:VEVENT
DTSTART;VALUE=DATE:20211021
DTEND;VALUE=DATE:20211022
DTSTAMP:20260423T143433
CREATED:20210830T000924Z
LAST-MODIFIED:20210830T223700Z
UID:13283-1634774400-1634860799@www.stpaulsmusic.com.au
SUMMARY:Junior Wind Band and Year 4 Band-Prestige Music Fest
DESCRIPTION:Junior Wind Band and Year 4 Band \nVenue: Iona College \nTimings: TBC
URL:https://www.stpaulsmusic.com.au/event/junior-wind-band-and-year-4-band-prestige-music-fest-2/
LOCATION:Queensland
END:VEVENT
END:VCALENDAR