BEGIN:VCALENDAR
VERSION:2.0
PRODID:-//St Paul&#039;s Music - ECPv6.15.20//NONSGML v1.0//EN
CALSCALE:GREGORIAN
METHOD:PUBLISH
X-ORIGINAL-URL:https://www.stpaulsmusic.com.au
X-WR-CALDESC:Events for St Paul&#039;s Music
REFRESH-INTERVAL;VALUE=DURATION:PT1H
X-Robots-Tag:noindex
X-PUBLISHED-TTL:PT1H
BEGIN:VTIMEZONE
TZID:Australia/Brisbane
BEGIN:STANDARD
TZOFFSETFROM:+1000
TZOFFSETTO:+1000
TZNAME:AEST
DTSTART:20210101T000000
END:STANDARD
END:VTIMEZONE
BEGIN:VEVENT
DTSTART;TZID=Australia/Brisbane:20220209T173000
DTEND;TZID=Australia/Brisbane:20220209T180000
DTSTAMP:20260423T082535
CREATED:20220206T045658Z
LAST-MODIFIED:20220206T045658Z
UID:13410-1644427800-1644429600@www.stpaulsmusic.com.au
SUMMARY:Year 2 Strings beginning-of-year meeting
DESCRIPTION:This meeting is for parents of all Year 2 Strings students. Parents are encouraged to attend to find out about student expectations\, instrument care and how to support their children to practise.
URL:https://www.stpaulsmusic.com.au/event/year-2-strings-beginning-of-year-meeting/
LOCATION:Music Centre\, 34 Strathpine Road\, Bald Hills\, Queensland\, 4036\, Australia
END:VEVENT
END:VCALENDAR