BEGIN:VCALENDAR
VERSION:2.0
PRODID:-//St Paul&#039;s Music - ECPv6.15.20//NONSGML v1.0//EN
CALSCALE:GREGORIAN
METHOD:PUBLISH
X-WR-CALNAME:St Paul&#039;s Music
X-ORIGINAL-URL:https://www.stpaulsmusic.com.au
X-WR-CALDESC:Events for St Paul&#039;s Music
REFRESH-INTERVAL;VALUE=DURATION:PT1H
X-Robots-Tag:noindex
X-PUBLISHED-TTL:PT1H
BEGIN:VTIMEZONE
TZID:Australia/Brisbane
BEGIN:STANDARD
TZOFFSETFROM:+1000
TZOFFSETTO:+1000
TZNAME:AEST
DTSTART:20210101T000000
END:STANDARD
END:VTIMEZONE
BEGIN:VEVENT
DTSTART;VALUE=DATE:20220506
DTEND;VALUE=DATE:20220507
DTSTAMP:20260423T052624
CREATED:20220323T032647Z
LAST-MODIFIED:20220504T012517Z
UID:13433-1651795200-1651881599@www.stpaulsmusic.com.au
SUMMARY:Allegretto Strings and Vivo Strings @ QYMA
DESCRIPTION:Allegretto String and Vivo Strings will be performing at the Queensland Youth Music Awards at St Peter’s Lutheran School. \n  \nAllegretto Strings \nArrive:                 40-45 minutes before your Section commences. \nTime:                   Section 27 commences at 6:00pm.  Allegretto is second on the Program.  Mrs Gibbs will need to tune everyone. \nWear:                  Black performance uniform.  Clean black shoes and BLACK socks (not white socks please). \nBring:                  Instrument\, music folder.  Cellos bring own rock stop. Bass bring own rock stop\, rosin and bass stool. \n  \nVivo Strings \n  \nArrive:                 40-45 minutes before your Section commences. \nTime:                   Section 24 commences at 7:15pm.  Vivo is 3rd on the Program.  Mrs Gibbs will need to tune everyone. \nWear:                  Black performance uniform.  Clean black shoes and BLACK socks (not white socks please). \nBring:                  Instrument\, music folder.  Cellos bring own rock stop. Bass bring own rock stop\, rosin and bass stool.
URL:https://www.stpaulsmusic.com.au/event/allegretto-strings-and-vivo-strings-qyma/
LOCATION:St Peter’s Lutheran College\, 66 Harts Road\, Indooroopilly\, Queensland\, 4068\, Australia
END:VEVENT
END:VCALENDAR