BEGIN:VCALENDAR
VERSION:2.0
PRODID:-//St Paul&#039;s Music - ECPv6.15.20//NONSGML v1.0//EN
CALSCALE:GREGORIAN
METHOD:PUBLISH
X-ORIGINAL-URL:https://www.stpaulsmusic.com.au
X-WR-CALDESC:Events for St Paul&#039;s Music
REFRESH-INTERVAL;VALUE=DURATION:PT1H
X-Robots-Tag:noindex
X-PUBLISHED-TTL:PT1H
BEGIN:VTIMEZONE
TZID:Australia/Brisbane
BEGIN:STANDARD
TZOFFSETFROM:+1000
TZOFFSETTO:+1000
TZNAME:AEST
DTSTART:20210101T000000
END:STANDARD
END:VTIMEZONE
BEGIN:VEVENT
DTSTART;VALUE=DATE:20220509
DTEND;VALUE=DATE:20220510
DTSTAMP:20260423T035749
CREATED:20220107T035106Z
LAST-MODIFIED:20220107T035106Z
UID:13352-1652054400-1652140799@www.stpaulsmusic.com.au
SUMMARY:Solo Competition - Round 1 auditions - Weeks 4 and 5
DESCRIPTION:Secondary students will audition to compete in our annual St Paul’s Music Solo Competition. Auditions will take place in person during lunchtimes in Weeks 4 and 5 (COVID restrictions permitting) or via video submission. Students will be emailed more details about auditions closer to the date.
URL:https://www.stpaulsmusic.com.au/event/solo-competition-round-1-auditions-weeks-4-and-5/
LOCATION:Music Centre\, 34 Strathpine Road\, Bald Hills\, Queensland\, 4036\, Australia
END:VEVENT
BEGIN:VEVENT
DTSTART;TZID=Australia/Brisbane:20220509T183000
DTEND;TZID=Australia/Brisbane:20220509T200000
DTSTAMP:20260423T035749
CREATED:20220202T024804Z
LAST-MODIFIED:20220202T024804Z
UID:13396-1652121000-1652126400@www.stpaulsmusic.com.au
SUMMARY:Music Supporters' Group meeting
DESCRIPTION:All parents/carers of Music students are welcome to attend the Music Supporters’ Group meetings each month. Activities of the group include organising food and drinks for Music events and fundraising for new instruments and tour expenses. To find out more\, please contact the MSG President\, Kathy Wright\, by emailing msgpresident@spssa.org.au .
URL:https://www.stpaulsmusic.com.au/event/music-supporters-group-meeting-2/
LOCATION:Music Centre\, 34 Strathpine Road\, Bald Hills\, Queensland\, 4036\, Australia
END:VEVENT
END:VCALENDAR