BEGIN:VCALENDAR
VERSION:2.0
PRODID:-//St Paul&#039;s Music - ECPv6.15.20//NONSGML v1.0//EN
CALSCALE:GREGORIAN
METHOD:PUBLISH
X-WR-CALNAME:St Paul&#039;s Music
X-ORIGINAL-URL:https://www.stpaulsmusic.com.au
X-WR-CALDESC:Events for St Paul&#039;s Music
REFRESH-INTERVAL;VALUE=DURATION:PT1H
X-Robots-Tag:noindex
X-PUBLISHED-TTL:PT1H
BEGIN:VTIMEZONE
TZID:Australia/Brisbane
BEGIN:STANDARD
TZOFFSETFROM:+1000
TZOFFSETTO:+1000
TZNAME:AEST
DTSTART:20210101T000000
END:STANDARD
END:VTIMEZONE
BEGIN:VEVENT
DTSTART;VALUE=DATE:20220518
DTEND;VALUE=DATE:20220519
DTSTAMP:20260423T035709
CREATED:20220323T032748Z
LAST-MODIFIED:20220509T020238Z
UID:13435-1652832000-1652918399@www.stpaulsmusic.com.au
SUMMARY:Wind Ensemble @ QYMA
DESCRIPTION:Wind Ensemble will be performing at the Queensland Youth Music Awards at St Peter’s Lutheran School. \nWhere: PAC St. Peter’s Lutheran College\, Indooroopilly \nArrive:  6:30pm \nUniform: Performance \nInfo: \nThe section runs from  6:45 pm-10:00pm. There are 9 Bands and we are playing last: \nPerformers have free entry. Entry fees for audience will be $15 for adults / $10 for uni/school aged children
URL:https://www.stpaulsmusic.com.au/event/wind-ensemble-qyma/
LOCATION:St Peter’s Lutheran College\, 66 Harts Road\, Indooroopilly\, Queensland\, 4068\, Australia
END:VEVENT
END:VCALENDAR