BEGIN:VCALENDAR
VERSION:2.0
PRODID:-//St Paul&#039;s Music - ECPv6.15.20//NONSGML v1.0//EN
CALSCALE:GREGORIAN
METHOD:PUBLISH
X-WR-CALNAME:St Paul&#039;s Music
X-ORIGINAL-URL:https://www.stpaulsmusic.com.au
X-WR-CALDESC:Events for St Paul&#039;s Music
REFRESH-INTERVAL;VALUE=DURATION:PT1H
X-Robots-Tag:noindex
X-PUBLISHED-TTL:PT1H
BEGIN:VTIMEZONE
TZID:Australia/Brisbane
BEGIN:STANDARD
TZOFFSETFROM:+1000
TZOFFSETTO:+1000
TZNAME:AEST
DTSTART:20210101T000000
END:STANDARD
END:VTIMEZONE
BEGIN:VEVENT
DTSTART;TZID=Australia/Brisbane:20220528T150000
DTEND;TZID=Australia/Brisbane:20220528T200000
DTSTAMP:20260423T052623
CREATED:20220202T023431Z
LAST-MODIFIED:20220525T235217Z
UID:13390-1653750000-1653768000@www.stpaulsmusic.com.au
SUMMARY:Music in the Dark
DESCRIPTION:Bring a picnic rug or chair and enjoy an afternoon of listening to all that St Paul’s Music has to offer. All St Paul’s ensembles will be featured at this event and the Music Supporters’ Group will be selling food and drinks.
URL:https://www.stpaulsmusic.com.au/event/music-in-the-dark-3/
LOCATION:Walker Centre\, 34 Strathpine Road\, Bald Hills\, Queensland\, 4036\, Australia
ATTACH;FMTTYPE=image/png:https://www.stpaulsmusic.com.au/wp-content/uploads/2022/02/Music-in-the-Dark-Facebook-Event-Cover-2.png
END:VEVENT
END:VCALENDAR