BEGIN:VCALENDAR
VERSION:2.0
PRODID:-//St Paul&#039;s Music - ECPv6.15.20//NONSGML v1.0//EN
CALSCALE:GREGORIAN
METHOD:PUBLISH
X-WR-CALNAME:St Paul&#039;s Music
X-ORIGINAL-URL:https://www.stpaulsmusic.com.au
X-WR-CALDESC:Events for St Paul&#039;s Music
REFRESH-INTERVAL;VALUE=DURATION:PT1H
X-Robots-Tag:noindex
X-PUBLISHED-TTL:PT1H
BEGIN:VTIMEZONE
TZID:Australia/Brisbane
BEGIN:STANDARD
TZOFFSETFROM:+1000
TZOFFSETTO:+1000
TZNAME:AEST
DTSTART:20210101T000000
END:STANDARD
END:VTIMEZONE
BEGIN:VEVENT
DTSTART;TZID=Australia/Brisbane:20220717T090000
DTEND;TZID=Australia/Brisbane:20220717T150000
DTSTAMP:20260423T005213
CREATED:20220621T005651Z
LAST-MODIFIED:20220621T005651Z
UID:13484-1658048400-1658070000@www.stpaulsmusic.com.au
SUMMARY:Anglican Schools Music Festival Rehearsal Day
DESCRIPTION:Students involved in ASMF will be rehearsing at multiple locations on this day. \n\n\n\n\nBand and Choir at Cannon Hill Anglican College\, Krupp Road\, Cannon Hill\nStrings at St Margaret’s Anglican Girls School\, 11 Petrie Street\, Ascot
URL:https://www.stpaulsmusic.com.au/event/anglican-schools-music-festival-rehearsal-day/
LOCATION:Queensland
END:VEVENT
END:VCALENDAR