BEGIN:VCALENDAR
VERSION:2.0
PRODID:-//St Paul&#039;s Music - ECPv6.15.20//NONSGML v1.0//EN
CALSCALE:GREGORIAN
METHOD:PUBLISH
X-ORIGINAL-URL:https://www.stpaulsmusic.com.au
X-WR-CALDESC:Events for St Paul&#039;s Music
REFRESH-INTERVAL;VALUE=DURATION:PT1H
X-Robots-Tag:noindex
X-PUBLISHED-TTL:PT1H
BEGIN:VTIMEZONE
TZID:Australia/Brisbane
BEGIN:STANDARD
TZOFFSETFROM:+1000
TZOFFSETTO:+1000
TZNAME:AEST
DTSTART:20210101T000000
END:STANDARD
END:VTIMEZONE
BEGIN:VEVENT
DTSTART;VALUE=DATE:20220817
DTEND;VALUE=DATE:20220818
DTSTAMP:20260422T231651
CREATED:20220728T064726Z
LAST-MODIFIED:20220728T064744Z
UID:13502-1660694400-1660780799@www.stpaulsmusic.com.au
SUMMARY:Music Photos
DESCRIPTION:All ensembles will be having photos on this day. A photo schedule will be released closer to the day. Students need to wear the uniform that they wear when performing\, which will either be their full school uniform or their Performance Uniform\, depending on the ensemble.
URL:https://www.stpaulsmusic.com.au/event/music-photos/
LOCATION:Queensland
END:VEVENT
END:VCALENDAR