BEGIN:VCALENDAR
VERSION:2.0
PRODID:-//St Paul&#039;s Music - ECPv6.15.20//NONSGML v1.0//EN
CALSCALE:GREGORIAN
METHOD:PUBLISH
X-WR-CALNAME:St Paul&#039;s Music
X-ORIGINAL-URL:https://www.stpaulsmusic.com.au
X-WR-CALDESC:Events for St Paul&#039;s Music
REFRESH-INTERVAL;VALUE=DURATION:PT1H
X-Robots-Tag:noindex
X-PUBLISHED-TTL:PT1H
BEGIN:VTIMEZONE
TZID:Australia/Brisbane
BEGIN:STANDARD
TZOFFSETFROM:+1000
TZOFFSETTO:+1000
TZNAME:AEST
DTSTART:20210101T000000
END:STANDARD
END:VTIMEZONE
BEGIN:VEVENT
DTSTART;TZID=Australia/Brisbane:20221107T153000
DTEND;TZID=Australia/Brisbane:20221107T173000
DTSTAMP:20260422T200336
CREATED:20220829T225833Z
LAST-MODIFIED:20221026T224716Z
UID:13513-1667835000-1667842200@www.stpaulsmusic.com.au
SUMMARY:Junior School Recital
DESCRIPTION:Selected Junior School students will perform solos at this event\, as nominated by their Music Tutors. Entries have now closed. \nDate: Monday Nov 7th \nTime: 3.30-5.30pm – students to arrive 10 minutes before to set-up \nVenue: Music Centre \nDress: Full school uniform \n 
URL:https://www.stpaulsmusic.com.au/event/junior-school-recital/
LOCATION:Music Centre\, 34 Strathpine Road\, Bald Hills\, Queensland\, 4036\, Australia
END:VEVENT
BEGIN:VEVENT
DTSTART;TZID=Australia/Brisbane:20221107T183000
DTEND;TZID=Australia/Brisbane:20221107T200000
DTSTAMP:20260422T200336
CREATED:20220202T025509Z
LAST-MODIFIED:20220202T025509Z
UID:13406-1667845800-1667851200@www.stpaulsmusic.com.au
SUMMARY:Music Supporters' Group meeting
DESCRIPTION:All parents/carers of Music students are welcome to attend the Music Supporters’ Group meetings each month. Activities of the group include organising food and drinks for Music events and fundraising for new instruments and tour expenses. To find out more\, please contact the MSG President\, Kathy Wright\, by emailing msgpresident@spssa.org.au .
URL:https://www.stpaulsmusic.com.au/event/music-supporters-group-meeting-6/
LOCATION:Queensland
END:VEVENT
END:VCALENDAR