BEGIN:VCALENDAR
VERSION:2.0
PRODID:-//St Paul&#039;s Music - ECPv6.15.20//NONSGML v1.0//EN
CALSCALE:GREGORIAN
METHOD:PUBLISH
X-WR-CALNAME:St Paul&#039;s Music
X-ORIGINAL-URL:https://www.stpaulsmusic.com.au
X-WR-CALDESC:Events for St Paul&#039;s Music
REFRESH-INTERVAL;VALUE=DURATION:PT1H
X-Robots-Tag:noindex
X-PUBLISHED-TTL:PT1H
BEGIN:VTIMEZONE
TZID:Australia/Brisbane
BEGIN:STANDARD
TZOFFSETFROM:+1000
TZOFFSETTO:+1000
TZNAME:AEST
DTSTART:20210101T000000
END:STANDARD
END:VTIMEZONE
BEGIN:VEVENT
DTSTART;TZID=Australia/Brisbane:20221115T183000
DTEND;TZID=Australia/Brisbane:20221115T203000
DTSTAMP:20260422T181247
CREATED:20220912T015008Z
LAST-MODIFIED:20220912T015008Z
UID:13539-1668537000-1668544200@www.stpaulsmusic.com.au
SUMMARY:Secondary Celebration of Achievement
DESCRIPTION:Wind Ensemble and Chamber Strings will be performing at this event. Details will be released closer to the date.
URL:https://www.stpaulsmusic.com.au/event/secondary-celebration-of-achievement/
LOCATION:Queensland
END:VEVENT
END:VCALENDAR