BEGIN:VCALENDAR
VERSION:2.0
PRODID:-//St Paul&#039;s Music - ECPv6.15.20//NONSGML v1.0//EN
CALSCALE:GREGORIAN
METHOD:PUBLISH
X-ORIGINAL-URL:https://www.stpaulsmusic.com.au
X-WR-CALDESC:Events for St Paul&#039;s Music
REFRESH-INTERVAL;VALUE=DURATION:PT1H
X-Robots-Tag:noindex
X-PUBLISHED-TTL:PT1H
BEGIN:VTIMEZONE
TZID:Australia/Brisbane
BEGIN:STANDARD
TZOFFSETFROM:+1000
TZOFFSETTO:+1000
TZNAME:AEST
DTSTART:20210101T000000
END:STANDARD
END:VTIMEZONE
BEGIN:VEVENT
DTSTART;TZID=Australia/Brisbane:20221122T190000
DTEND;TZID=Australia/Brisbane:20221122T203000
DTSTAMP:20260422T181243
CREATED:20220912T015304Z
LAST-MODIFIED:20220912T015304Z
UID:13543-1669143600-1669149000@www.stpaulsmusic.com.au
SUMMARY:Junior School Celebration of Achievement
DESCRIPTION:Selected Junior ensembles will be performing as part of this event. Details will be emailed closer to the time.
URL:https://www.stpaulsmusic.com.au/event/junior-school-celebration-of-achievement-2/
LOCATION:Walker Centre\, 34 Strathpine Road\, Bald Hills\, Queensland\, 4036\, Australia
END:VEVENT
END:VCALENDAR