BEGIN:VCALENDAR
VERSION:2.0
PRODID:-//St Paul&#039;s Music - ECPv6.15.20//NONSGML v1.0//EN
CALSCALE:GREGORIAN
METHOD:PUBLISH
X-ORIGINAL-URL:https://www.stpaulsmusic.com.au
X-WR-CALDESC:Events for St Paul&#039;s Music
REFRESH-INTERVAL;VALUE=DURATION:PT1H
X-Robots-Tag:noindex
X-PUBLISHED-TTL:PT1H
BEGIN:VTIMEZONE
TZID:Australia/Brisbane
BEGIN:STANDARD
TZOFFSETFROM:+1000
TZOFFSETTO:+1000
TZNAME:AEST
DTSTART:20220101T000000
END:STANDARD
END:VTIMEZONE
BEGIN:VEVENT
DTSTART;TZID=Australia/Brisbane:20230223T183000
DTEND;TZID=Australia/Brisbane:20230223T223000
DTSTAMP:20260422T131801
CREATED:20230117T044958Z
LAST-MODIFIED:20230117T044958Z
UID:13612-1677177000-1677191400@www.stpaulsmusic.com.au
SUMMARY:'Hamilton' excursion
DESCRIPTION:Year 12 classroom Music and Music Technology students will attend a performance of Lin-Manuel Miranda’s renowned Broadway musical Hamilton at QPAC.
URL:https://www.stpaulsmusic.com.au/event/hamilton-excursion/
LOCATION:QPAC\, corner of Grey and Melbourne Streets\, South Bank\, Queensland\, 4101\, Australia
END:VEVENT
END:VCALENDAR