BEGIN:VCALENDAR
VERSION:2.0
PRODID:-//St Paul&#039;s Music - ECPv6.15.20//NONSGML v1.0//EN
CALSCALE:GREGORIAN
METHOD:PUBLISH
X-WR-CALNAME:St Paul&#039;s Music
X-ORIGINAL-URL:https://www.stpaulsmusic.com.au
X-WR-CALDESC:Events for St Paul&#039;s Music
REFRESH-INTERVAL;VALUE=DURATION:PT1H
X-Robots-Tag:noindex
X-PUBLISHED-TTL:PT1H
BEGIN:VTIMEZONE
TZID:Australia/Brisbane
BEGIN:STANDARD
TZOFFSETFROM:+1000
TZOFFSETTO:+1000
TZNAME:AEST
DTSTART:20220101T000000
END:STANDARD
END:VTIMEZONE
BEGIN:VEVENT
DTSTART;TZID=Australia/Brisbane:20230502T080000
DTEND;TZID=Australia/Brisbane:20230502T170000
DTSTAMP:20260422T081619
CREATED:20230501T235248Z
LAST-MODIFIED:20230501T235248Z
UID:13718-1683014400-1683046800@www.stpaulsmusic.com.au
SUMMARY:Singers + Chamber Strings @ PM Aged Care
DESCRIPTION:Students from St Paul’s Singers and Chamber Strings will be performing at PM Aged Care\, leaving school at 12.45pm and returning at 3pm. More information will be sent to parents and students closer to the date.
URL:https://www.stpaulsmusic.com.au/event/singers-chamber-strings-pm-aged-care/
LOCATION:PM Aged Care\, 1929 Gympie Rd\, Bald Hills\, Queensland\, 4036\, Australia
END:VEVENT
END:VCALENDAR