BEGIN:VCALENDAR
VERSION:2.0
PRODID:-//St Paul&#039;s Music - ECPv6.15.20//NONSGML v1.0//EN
CALSCALE:GREGORIAN
METHOD:PUBLISH
X-ORIGINAL-URL:https://www.stpaulsmusic.com.au
X-WR-CALDESC:Events for St Paul&#039;s Music
REFRESH-INTERVAL;VALUE=DURATION:PT1H
X-Robots-Tag:noindex
X-PUBLISHED-TTL:PT1H
BEGIN:VTIMEZONE
TZID:Australia/Brisbane
BEGIN:STANDARD
TZOFFSETFROM:+1000
TZOFFSETTO:+1000
TZNAME:AEST
DTSTART:20220101T000000
END:STANDARD
END:VTIMEZONE
BEGIN:VEVENT
DTSTART;TZID=Australia/Brisbane:20230908T183000
DTEND;TZID=Australia/Brisbane:20230908T213000
DTSTAMP:20260422T014034
CREATED:20230117T041717Z
LAST-MODIFIED:20230117T041717Z
UID:13597-1694197800-1694208600@www.stpaulsmusic.com.au
SUMMARY:Con Brio
DESCRIPTION:All secondary ensembles will perform at this ticketed event. Food trucks will be onsite\, and beverages will be available for purchase. Con Brio is also a chance to farewell our graduating Year 12 musicians.
URL:https://www.stpaulsmusic.com.au/event/con-brio/
LOCATION:Walker Centre\, 34 Strathpine Road\, Bald Hills\, Queensland\, 4036\, Australia
END:VEVENT
END:VCALENDAR