BEGIN:VCALENDAR
VERSION:2.0
PRODID:-//St Paul&#039;s Music - ECPv6.15.20//NONSGML v1.0//EN
CALSCALE:GREGORIAN
METHOD:PUBLISH
X-ORIGINAL-URL:https://www.stpaulsmusic.com.au
X-WR-CALDESC:Events for St Paul&#039;s Music
REFRESH-INTERVAL;VALUE=DURATION:PT1H
X-Robots-Tag:noindex
X-PUBLISHED-TTL:PT1H
BEGIN:VTIMEZONE
TZID:Australia/Brisbane
BEGIN:STANDARD
TZOFFSETFROM:+1000
TZOFFSETTO:+1000
TZNAME:AEST
DTSTART:20220101T000000
END:STANDARD
END:VTIMEZONE
BEGIN:VEVENT
DTSTART;TZID=Australia/Brisbane:20231006T153000
DTEND;TZID=Australia/Brisbane:20231006T200000
DTSTAMP:20260421T221811
CREATED:20230117T041848Z
LAST-MODIFIED:20230117T041848Z
UID:13599-1696606200-1696622400@www.stpaulsmusic.com.au
SUMMARY:Battle of the Bands
DESCRIPTION:Students form their own bands to compete in the annual Battle of the Bands competition. Musicians can enter the band category or the solo/duo category. This event is held on the grassed area outside Walker 1\, and food and drink will be available for purchase.
URL:https://www.stpaulsmusic.com.au/event/battle-of-the-bands-2/
LOCATION:Walker Centre\, 34 Strathpine Road\, Bald Hills\, Queensland\, 4036\, Australia
END:VEVENT
END:VCALENDAR