BEGIN:VCALENDAR
VERSION:2.0
PRODID:-//St Paul&#039;s Music - ECPv6.15.20//NONSGML v1.0//EN
CALSCALE:GREGORIAN
METHOD:PUBLISH
X-WR-CALNAME:St Paul&#039;s Music
X-ORIGINAL-URL:https://www.stpaulsmusic.com.au
X-WR-CALDESC:Events for St Paul&#039;s Music
REFRESH-INTERVAL;VALUE=DURATION:PT1H
X-Robots-Tag:noindex
X-PUBLISHED-TTL:PT1H
BEGIN:VTIMEZONE
TZID:Australia/Brisbane
BEGIN:STANDARD
TZOFFSETFROM:+1000
TZOFFSETTO:+1000
TZNAME:AEST
DTSTART:20240101T000000
END:STANDARD
END:VTIMEZONE
BEGIN:VEVENT
DTSTART;VALUE=DATE:20250507
DTEND;VALUE=DATE:20250508
DTSTAMP:20260420T222204
CREATED:20250305T012007Z
LAST-MODIFIED:20250427T233924Z
UID:14104-1746576000-1746662399@www.stpaulsmusic.com.au
SUMMARY:QYMA - Lento Strings
DESCRIPTION:Ensemble: Lento Strings \nTime: 6 – 8.30pm \nVenue: St. Peter’s Lutheran College
URL:https://www.stpaulsmusic.com.au/event/qyma-lento-strings-3/
LOCATION:St Peter’s Lutheran College\, 66 Harts Road\, Indooroopilly\, Queensland\, 4068\, Australia
END:VEVENT
END:VCALENDAR