BEGIN:VCALENDAR
VERSION:2.0
PRODID:-//St Paul&#039;s Music - ECPv6.15.20//NONSGML v1.0//EN
CALSCALE:GREGORIAN
METHOD:PUBLISH
X-ORIGINAL-URL:https://www.stpaulsmusic.com.au
X-WR-CALDESC:Events for St Paul&#039;s Music
REFRESH-INTERVAL;VALUE=DURATION:PT1H
X-Robots-Tag:noindex
X-PUBLISHED-TTL:PT1H
BEGIN:VTIMEZONE
TZID:Australia/Brisbane
BEGIN:STANDARD
TZOFFSETFROM:+1000
TZOFFSETTO:+1000
TZNAME:AEST
DTSTART:20240101T000000
END:STANDARD
END:VTIMEZONE
BEGIN:VEVENT
DTSTART;VALUE=DATE:20250509
DTEND;VALUE=DATE:20250510
DTSTAMP:20260422T203400
CREATED:20250305T012148Z
LAST-MODIFIED:20250427T234115Z
UID:14108-1746748800-1746835199@www.stpaulsmusic.com.au
SUMMARY:QYMA - Allegretto Strings
DESCRIPTION:Ensemble: Allegretto Strings \nTime: 5.30 – 9.30pm \nVenue: St. Peter’s Lutheran College
URL:https://www.stpaulsmusic.com.au/event/qyma-allegretto-strings-2/
LOCATION:St Peter’s Lutheran College\, 66 Harts Road\, Indooroopilly\, Queensland\, 4068\, Australia
END:VEVENT
END:VCALENDAR