BEGIN:VCALENDAR
VERSION:2.0
PRODID:-//St Paul&#039;s Music - ECPv6.15.20//NONSGML v1.0//EN
CALSCALE:GREGORIAN
METHOD:PUBLISH
X-ORIGINAL-URL:https://www.stpaulsmusic.com.au
X-WR-CALDESC:Events for St Paul&#039;s Music
REFRESH-INTERVAL;VALUE=DURATION:PT1H
X-Robots-Tag:noindex
X-PUBLISHED-TTL:PT1H
BEGIN:VTIMEZONE
TZID:Australia/Brisbane
BEGIN:STANDARD
TZOFFSETFROM:+1000
TZOFFSETTO:+1000
TZNAME:AEST
DTSTART:20250101T000000
END:STANDARD
END:VTIMEZONE
BEGIN:VEVENT
DTSTART;VALUE=DATE:20260515
DTEND;VALUE=DATE:20260516
DTSTAMP:20260421T004413
CREATED:20260318T001620Z
LAST-MODIFIED:20260318T001620Z
UID:14323-1778803200-1778889599@www.stpaulsmusic.com.au
SUMMARY:QYMA - Junior School Choir TBC
DESCRIPTION:TBC
URL:https://www.stpaulsmusic.com.au/event/qyma-junior-school-choir-tbc/
LOCATION:St Peter’s Lutheran College\, 66 Harts Road\, Indooroopilly\, Queensland\, 4068\, Australia
END:VEVENT
END:VCALENDAR