BEGIN:VCALENDAR
VERSION:2.0
PRODID:-//St Paul&#039;s Music - ECPv6.15.20//NONSGML v1.0//EN
CALSCALE:GREGORIAN
METHOD:PUBLISH
X-ORIGINAL-URL:https://www.stpaulsmusic.com.au
X-WR-CALDESC:Events for St Paul&#039;s Music
REFRESH-INTERVAL;VALUE=DURATION:PT1H
X-Robots-Tag:noindex
X-PUBLISHED-TTL:PT1H
BEGIN:VTIMEZONE
TZID:Australia/Brisbane
BEGIN:STANDARD
TZOFFSETFROM:+1000
TZOFFSETTO:+1000
TZNAME:AEST
DTSTART:20250101T000000
END:STANDARD
END:VTIMEZONE
BEGIN:VEVENT
DTSTART;VALUE=DATE:20260618
DTEND;VALUE=DATE:20260619
DTSTAMP:20260421T021527
CREATED:20260223T004610Z
LAST-MODIFIED:20260223T004610Z
UID:14309-1781740800-1781827199@www.stpaulsmusic.com.au
SUMMARY:Solo Competition Final
DESCRIPTION:TBC
URL:https://www.stpaulsmusic.com.au/event/solo-competition-final-4/
LOCATION:Queensland
END:VEVENT
END:VCALENDAR