BEGIN:VCALENDAR
VERSION:2.0
PRODID:-//St Paul&#039;s Music - ECPv6.15.20//NONSGML v1.0//EN
CALSCALE:GREGORIAN
METHOD:PUBLISH
X-ORIGINAL-URL:https://www.stpaulsmusic.com.au
X-WR-CALDESC:Events for St Paul&#039;s Music
REFRESH-INTERVAL;VALUE=DURATION:PT1H
X-Robots-Tag:noindex
X-PUBLISHED-TTL:PT1H
BEGIN:VTIMEZONE
TZID:Australia/Brisbane
BEGIN:STANDARD
TZOFFSETFROM:+1000
TZOFFSETTO:+1000
TZNAME:AEST
DTSTART:20200101T000000
END:STANDARD
END:VTIMEZONE
BEGIN:VEVENT
DTSTART;TZID=Australia/Brisbane:20211103T084500
DTEND;TZID=Australia/Brisbane:20211103T103000
DTSTAMP:20260423T112715
CREATED:20211103T015132Z
LAST-MODIFIED:20211103T015132Z
UID:13315-1635929100-1635935400@www.stpaulsmusic.com.au
SUMMARY:St Paul's Chorus @ St Mark's Anglican Church
DESCRIPTION:St Paul’s Chorus will be performing as part of the weekly church service at St Mark’s Anglican Church\, Clayfield. Students are to wear full school uniform\, including blazer.
URL:https://www.stpaulsmusic.com.au/event/st-pauls-chorus-st-marks-anglican-church/
LOCATION:St Mark’s Anglican Church\, 56 Bellevue Terrace\, Clayfield\, Queensland\, Australia
END:VEVENT
BEGIN:VEVENT
DTSTART;TZID=Australia/Brisbane:20211112T153000
DTEND;TZID=Australia/Brisbane:20211112T170000
DTSTAMP:20260423T112715
CREATED:20201124T035442Z
LAST-MODIFIED:20201124T035442Z
UID:13192-1636731000-1636736400@www.stpaulsmusic.com.au
SUMMARY:Junior Ensembles Concert
DESCRIPTION:All of our Junior School ensembles will be featured at this concert. Details will be released closer to the event.
URL:https://www.stpaulsmusic.com.au/event/junior-ensembles-concert-2/
LOCATION:Walker Centre\, 34 Strathpine Road\, Bald Hills\, Queensland\, 4036\, Australia
END:VEVENT
BEGIN:VEVENT
DTSTART;VALUE=DATE:20211116
DTEND;VALUE=DATE:20211117
DTSTAMP:20260423T112715
CREATED:20210225T044037Z
LAST-MODIFIED:20210225T044037Z
UID:13221-1637020800-1637107199@www.stpaulsmusic.com.au
SUMMARY:Final Rehearsal/Breakup - Strings
DESCRIPTION:
URL:https://www.stpaulsmusic.com.au/event/final-rehearsal-breakup-strings/
LOCATION:Queensland
END:VEVENT
BEGIN:VEVENT
DTSTART;TZID=Australia/Brisbane:20211116T183000
DTEND;TZID=Australia/Brisbane:20211116T203000
DTSTAMP:20260423T112715
CREATED:20211115T021022Z
LAST-MODIFIED:20211115T021054Z
UID:13329-1637087400-1637094600@www.stpaulsmusic.com.au
SUMMARY:Celebration of Achievement
DESCRIPTION:St Paul’s Singers and Wind Ensemble will be performing at the secondary Celebration of Achievement. \nArrival time: 6.00pm \nAttire: Full Performance Uniform with blazer
URL:https://www.stpaulsmusic.com.au/event/celebration-of-achievement/
LOCATION:Walker Centre\, 34 Strathpine Road\, Bald Hills\, Queensland\, 4036\, Australia
END:VEVENT
BEGIN:VEVENT
DTSTART;TZID=Australia/Brisbane:20211130T190000
DTEND;TZID=Australia/Brisbane:20211130T203000
DTSTAMP:20260423T112715
CREATED:20211115T021905Z
LAST-MODIFIED:20211115T021905Z
UID:13335-1638298800-1638304200@www.stpaulsmusic.com.au
SUMMARY:Junior School Celebration of Achievement
DESCRIPTION:Lento Strings will be performing as the pre-show entertainment at the JS CoA\, and Junior Wind Band and Junior School Choir will be performing throughout the evening. \n  \nLento Strings \nArrival time: 6.15pm \nPerformance time: 6.30pm \nFinish time: 6.50pm \n  \nJunior Wind Band \nArrival time: 6.30pm \n  \nJunior School Choir \nArrival time: 6.45pm
URL:https://www.stpaulsmusic.com.au/event/junior-school-celebration-of-achievement/
LOCATION:Queensland
END:VEVENT
END:VCALENDAR