BEGIN:VCALENDAR
VERSION:2.0
PRODID:-//St Paul&#039;s Music - ECPv6.15.20//NONSGML v1.0//EN
CALSCALE:GREGORIAN
METHOD:PUBLISH
X-WR-CALNAME:St Paul&#039;s Music
X-ORIGINAL-URL:https://www.stpaulsmusic.com.au
X-WR-CALDESC:Events for St Paul&#039;s Music
REFRESH-INTERVAL;VALUE=DURATION:PT1H
X-Robots-Tag:noindex
X-PUBLISHED-TTL:PT1H
BEGIN:VTIMEZONE
TZID:Australia/Brisbane
BEGIN:STANDARD
TZOFFSETFROM:+1000
TZOFFSETTO:+1000
TZNAME:AEST
DTSTART:20210101T000000
END:STANDARD
END:VTIMEZONE
BEGIN:VEVENT
DTSTART;TZID=Australia/Brisbane:20220307T183000
DTEND;TZID=Australia/Brisbane:20220307T200000
DTSTAMP:20260423T052725
CREATED:20220202T024051Z
LAST-MODIFIED:20220202T024051Z
UID:13394-1646677800-1646683200@www.stpaulsmusic.com.au
SUMMARY:Music Supporters' Group meeting - AGM
DESCRIPTION:All parents/carers of Music students are welcome to attend the Music Supporters’ Group meetings each month. Activities of the group include organising food and drinks for Music events and fundraising for new instruments and tour expenses. To find out more\, please contact the MSG President\, Kathy Wright\, by emailing msgpresident@spssa.org.au . \n* This meeting will be online due to COVID regulations.
URL:https://www.stpaulsmusic.com.au/event/music-supporters-group-meeting-agm/
LOCATION:Queensland
END:VEVENT
BEGIN:VEVENT
DTSTART;TZID=Australia/Brisbane:20220325T153000
DTEND;TZID=Australia/Brisbane:20220325T200000
DTSTAMP:20260423T052725
CREATED:20220321T233159Z
LAST-MODIFIED:20220323T032421Z
UID:13427-1648222200-1648238400@www.stpaulsmusic.com.au
SUMMARY:Music Social: POSTPONED
DESCRIPTION:THIS EVENT HAS BEEN POSTPONED TO FRIDAY APRIL 22 \nAll Extracurricular Music students from Years 7-12 are invited to this event. Registration closes on Wednesday March 23 at midday via this link. Payment of $15 per student can be made via the School website (‘Make a Payment’\, then ‘General Payment’\, then choose ‘Music Social’ from the dropdown box).
URL:https://www.stpaulsmusic.com.au/event/music-social/
LOCATION:Music Centre\, 34 Strathpine Road\, Bald Hills\, Queensland\, 4036\, Australia
ATTACH;FMTTYPE=image/png:https://www.stpaulsmusic.com.au/wp-content/uploads/2022/03/Music-social-Instagram-Post-5.png
END:VEVENT
BEGIN:VEVENT
DTSTART;TZID=Australia/Brisbane:20220330T170000
DTEND;TZID=Australia/Brisbane:20220330T183000
DTSTAMP:20260423T052725
CREATED:20220202T021216Z
LAST-MODIFIED:20220321T232815Z
UID:13386-1648659600-1648665000@www.stpaulsmusic.com.au
SUMMARY:Music and Mocktails
DESCRIPTION:Selected students will be performing in Chamber Ensembles at this event. The Hospitality students will be providing delicious mocktails and tasty treats.
URL:https://www.stpaulsmusic.com.au/event/mocktail-event/
LOCATION:Music Centre\, 34 Strathpine Road\, Bald Hills\, Queensland\, 4036\, Australia
ATTACH;FMTTYPE=image/png:https://www.stpaulsmusic.com.au/wp-content/uploads/2022/02/Music-and-Mocktails-poster-Facebook-Cover.png
END:VEVENT
BEGIN:VEVENT
DTSTART;TZID=Australia/Brisbane:20220331T153000
DTEND;TZID=Australia/Brisbane:20220331T160000
DTSTAMP:20260423T052725
CREATED:20220202T023043Z
LAST-MODIFIED:20220202T023043Z
UID:13388-1648740600-1648742400@www.stpaulsmusic.com.au
SUMMARY:Choral Workshop Day + Concert
DESCRIPTION:Junior School Choir\, Red Shirt Choir and St Paul’s Chorus will attend sessions at this workshop. At the end of the day\, students will perform what they have learned in a short concert for their parents at 3.30pm.
URL:https://www.stpaulsmusic.com.au/event/choral-workshop-day-concert/
LOCATION:Queensland
END:VEVENT
END:VCALENDAR