BEGIN:VCALENDAR
VERSION:2.0
PRODID:-//St Paul&#039;s Music - ECPv6.15.20//NONSGML v1.0//EN
CALSCALE:GREGORIAN
METHOD:PUBLISH
X-WR-CALNAME:St Paul&#039;s Music
X-ORIGINAL-URL:https://www.stpaulsmusic.com.au
X-WR-CALDESC:Events for St Paul&#039;s Music
REFRESH-INTERVAL;VALUE=DURATION:PT1H
X-Robots-Tag:noindex
X-PUBLISHED-TTL:PT1H
BEGIN:VTIMEZONE
TZID:Australia/Brisbane
BEGIN:STANDARD
TZOFFSETFROM:+1000
TZOFFSETTO:+1000
TZNAME:AEST
DTSTART:20210101T000000
END:STANDARD
END:VTIMEZONE
BEGIN:VEVENT
DTSTART;TZID=Australia/Brisbane:20220422T033000
DTEND;TZID=Australia/Brisbane:20220422T200000
DTSTAMP:20260423T035709
CREATED:20220323T033329Z
LAST-MODIFIED:20220323T033329Z
UID:13437-1650598200-1650657600@www.stpaulsmusic.com.au
SUMMARY:Music Social (new date)
DESCRIPTION:All Extracurricular Music students from Years 7-12 are invited to this event. Registration closes on Wednesday April 20 at midday via this link. Payment of $15 per student can be made via the School website (‘Make a Payment’\, then ‘General Payment’\, then choose ‘Music Social’ from the dropdown box).
URL:https://www.stpaulsmusic.com.au/event/music-social-new-date/
LOCATION:Music Centre\, 34 Strathpine Road\, Bald Hills\, Queensland\, 4036\, Australia
ATTACH;FMTTYPE=image/png:https://www.stpaulsmusic.com.au/wp-content/uploads/2022/03/Music-social-Instagram-Post-10.png
END:VEVENT
END:VCALENDAR