BEGIN:VCALENDAR
VERSION:2.0
PRODID:-//St Paul&#039;s Music - ECPv6.15.20//NONSGML v1.0//EN
CALSCALE:GREGORIAN
METHOD:PUBLISH
X-ORIGINAL-URL:https://www.stpaulsmusic.com.au
X-WR-CALDESC:Events for St Paul&#039;s Music
REFRESH-INTERVAL;VALUE=DURATION:PT1H
X-Robots-Tag:noindex
X-PUBLISHED-TTL:PT1H
BEGIN:VTIMEZONE
TZID:Australia/Brisbane
BEGIN:STANDARD
TZOFFSETFROM:+1000
TZOFFSETTO:+1000
TZNAME:AEST
DTSTART:20210101T000000
END:STANDARD
END:VTIMEZONE
BEGIN:VEVENT
DTSTART;TZID=Australia/Brisbane:20220606T153000
DTEND;TZID=Australia/Brisbane:20220606T183000
DTSTAMP:20260423T005323
CREATED:20220107T035303Z
LAST-MODIFIED:20220525T235328Z
UID:13354-1654529400-1654540200@www.stpaulsmusic.com.au
SUMMARY:Solo Competition - Round 2 - Concert 1
DESCRIPTION:Students who successfully auditioned for the Solo Competition will perform in instrument groups in the Round 2 Concerts. Students will be advised which concert they will be performing in after the audition round is complete. \nThe following sections will be in this concert: \n\nYears 7-9 Brass\nYears 7-9 Woodwind\nYears 10-12 Brass\nYears 10-12 Woodwind\nYears 10-12 Vocal
URL:https://www.stpaulsmusic.com.au/event/solo-competition-round-2-concert-1/
LOCATION:Music Centre\, 34 Strathpine Road\, Bald Hills\, Queensland\, 4036\, Australia
ATTACH;FMTTYPE=image/png:https://www.stpaulsmusic.com.au/wp-content/uploads/2022/01/2022-Solo-Competition-Facebook-Cover.png
END:VEVENT
BEGIN:VEVENT
DTSTART;TZID=Australia/Brisbane:20220606T183000
DTEND;TZID=Australia/Brisbane:20220606T200000
DTSTAMP:20260423T005323
CREATED:20220202T025234Z
LAST-MODIFIED:20220202T025234Z
UID:13402-1654540200-1654545600@www.stpaulsmusic.com.au
SUMMARY:Music Supporters' Group meeting
DESCRIPTION:All parents/carers of Music students are welcome to attend the Music Supporters’ Group meetings each month. Activities of the group include organising food and drinks for Music events and fundraising for new instruments and tour expenses. To find out more\, please contact the MSG President\, Kathy Wright\, by emailing msgpresident@spssa.org.au .
URL:https://www.stpaulsmusic.com.au/event/music-supporters-group-meeting-5/
LOCATION:Queensland
END:VEVENT
BEGIN:VEVENT
DTSTART;TZID=Australia/Brisbane:20220607T153000
DTEND;TZID=Australia/Brisbane:20220607T183000
DTSTAMP:20260423T005323
CREATED:20220107T035352Z
LAST-MODIFIED:20220525T235425Z
UID:13356-1654615800-1654626600@www.stpaulsmusic.com.au
SUMMARY:Solo Competition - Round 2 - Concert 2
DESCRIPTION:Students who successfully auditioned for the Solo Competition will perform in instrument groups in the Round 2 Concerts. Students will be advised which concert they will be performing in after the audition round is complete. \nThe following sections will be in this concert: \n  \n\nYears 7-9 Vocal\nYears 7-9 Strings\nYears 7-9 Piano/Guitar/Percussion\nYears 10-12 Strings\nYears 10-12 Piano/Guitar/Percussion\n\n 
URL:https://www.stpaulsmusic.com.au/event/solo-competition-round-2-concert-2/
LOCATION:Music Centre\, 34 Strathpine Road\, Bald Hills\, Queensland\, 4036\, Australia
ATTACH;FMTTYPE=image/png:https://www.stpaulsmusic.com.au/wp-content/uploads/2022/01/2022-Solo-Competition-Facebook-Cover.png
END:VEVENT
BEGIN:VEVENT
DTSTART;TZID=Australia/Brisbane:20220617T183000
DTEND;TZID=Australia/Brisbane:20220617T210000
DTSTAMP:20260423T005323
CREATED:20220107T035613Z
LAST-MODIFIED:20220525T235501Z
UID:13358-1655490600-1655499600@www.stpaulsmusic.com.au
SUMMARY:Solo Competition Final
DESCRIPTION:The winners of each section from the Round 2 concerts\, as well as other selected students\, will compete in the final of the Solo Competition.
URL:https://www.stpaulsmusic.com.au/event/solo-competition-final-venue-tbc/
LOCATION:Walker Centre\, 34 Strathpine Road\, Bald Hills\, Queensland\, 4036\, Australia
ATTACH;FMTTYPE=image/png:https://www.stpaulsmusic.com.au/wp-content/uploads/2022/01/2022-Solo-Competition-Facebook-Cover.png
END:VEVENT
END:VCALENDAR