BEGIN:VCALENDAR
VERSION:2.0
PRODID:-//St Paul&#039;s Music - ECPv6.15.20//NONSGML v1.0//EN
CALSCALE:GREGORIAN
METHOD:PUBLISH
X-ORIGINAL-URL:https://www.stpaulsmusic.com.au
X-WR-CALDESC:Events for St Paul&#039;s Music
REFRESH-INTERVAL;VALUE=DURATION:PT1H
X-Robots-Tag:noindex
X-PUBLISHED-TTL:PT1H
BEGIN:VTIMEZONE
TZID:Australia/Brisbane
BEGIN:STANDARD
TZOFFSETFROM:+1000
TZOFFSETTO:+1000
TZNAME:AEST
DTSTART:20210101T000000
END:STANDARD
END:VTIMEZONE
BEGIN:VEVENT
DTSTART;TZID=Australia/Brisbane:20220717T090000
DTEND;TZID=Australia/Brisbane:20220717T150000
DTSTAMP:20260422T232241
CREATED:20220621T005651Z
LAST-MODIFIED:20220621T005651Z
UID:13484-1658048400-1658070000@www.stpaulsmusic.com.au
SUMMARY:Anglican Schools Music Festival Rehearsal Day
DESCRIPTION:Students involved in ASMF will be rehearsing at multiple locations on this day. \n\n\n\n\nBand and Choir at Cannon Hill Anglican College\, Krupp Road\, Cannon Hill\nStrings at St Margaret’s Anglican Girls School\, 11 Petrie Street\, Ascot
URL:https://www.stpaulsmusic.com.au/event/anglican-schools-music-festival-rehearsal-day/
LOCATION:Queensland
END:VEVENT
BEGIN:VEVENT
DTSTART;VALUE=DATE:20220724
DTEND;VALUE=DATE:20220725
DTSTAMP:20260422T232241
CREATED:20220107T040539Z
LAST-MODIFIED:20220714T030020Z
UID:13360-1658620800-1658707199@www.stpaulsmusic.com.au
SUMMARY:Jazzin' Up The Mall
DESCRIPTION:Selected bands will be performing in the Queen Street Mall at this event. Students are to arrive at least half an hour before their performance\, with the exception of strings students who should arrive 45 minutes before their performance for tuning purposes. \n\n12.30pm – Stage Band\n12.45pm – Guitar Ensemble (electric)\n1.00pm – Vivo Strings\n1.15pm Allegretto Strings\n1.45pm – St Paul’s Chorus\n2.00pm – St Paul’s Singers\n2.15pm – Concert Band\n2.45pm – Symphony Orchestra
URL:https://www.stpaulsmusic.com.au/event/brisbane-city-bands-festival-tbc/
LOCATION:Queen Street Mall\, Queen Street Mall\, Brisbane\, Queensland\, 4000\, Australia
END:VEVENT
BEGIN:VEVENT
DTSTART;VALUE=DATE:20220729
DTEND;VALUE=DATE:20220730
DTSTAMP:20260422T232241
CREATED:20220107T040635Z
LAST-MODIFIED:20220621T010036Z
UID:13362-1659052800-1659139199@www.stpaulsmusic.com.au
SUMMARY:Pine Rivers Show
DESCRIPTION:Selected Junior School ensembles will be performing at the Pine Rivers Show. Parents will be emailed details closer to the event. \n\n9.45am – Junior Wind Band\n10.15am – Beginner Band\n10.45am – Jazz Ensemble\n11.30am – Red Shirt Choir\n12.15pm – JS Choir
URL:https://www.stpaulsmusic.com.au/event/pine-rivers-show-tbc/
LOCATION:Pine Rivers Showgrounds\, 757 Gympie Road\, Lawnton\, Queensland\, 4501\, Australia
END:VEVENT
END:VCALENDAR