BEGIN:VCALENDAR
VERSION:2.0
PRODID:-//St Paul&#039;s Music - ECPv6.15.20//NONSGML v1.0//EN
CALSCALE:GREGORIAN
METHOD:PUBLISH
X-WR-CALNAME:St Paul&#039;s Music
X-ORIGINAL-URL:https://www.stpaulsmusic.com.au
X-WR-CALDESC:Events for St Paul&#039;s Music
REFRESH-INTERVAL;VALUE=DURATION:PT1H
X-Robots-Tag:noindex
X-PUBLISHED-TTL:PT1H
BEGIN:VTIMEZONE
TZID:Australia/Brisbane
BEGIN:STANDARD
TZOFFSETFROM:+1000
TZOFFSETTO:+1000
TZNAME:AEST
DTSTART:20210101T000000
END:STANDARD
END:VTIMEZONE
BEGIN:VEVENT
DTSTART;TZID=Australia/Brisbane:20221007T153000
DTEND;TZID=Australia/Brisbane:20221007T190000
DTSTAMP:20260422T181003
CREATED:20220107T041037Z
LAST-MODIFIED:20220202T020843Z
UID:13368-1665156600-1665169200@www.stpaulsmusic.com.au
SUMMARY:Battle of the Bands 2022
DESCRIPTION:Students will vie for rock supremacy in Solo/Duo and Band categories in this year’s Battle of the Bands. Auditions will be in Week 10 of Term 3.
URL:https://www.stpaulsmusic.com.au/event/battle-of-the-bands-2021/
LOCATION:Walker Centre\, 34 Strathpine Road\, Bald Hills\, Queensland\, 4036\, Australia
END:VEVENT
BEGIN:VEVENT
DTSTART;TZID=Australia/Brisbane:20221014T160000
DTEND;TZID=Australia/Brisbane:20221014T173000
DTSTAMP:20260422T181003
CREATED:20220107T041212Z
LAST-MODIFIED:20220525T225825Z
UID:13370-1665763200-1665768600@www.stpaulsmusic.com.au
SUMMARY:Junior Ensembles Concert
DESCRIPTION:All Junior School ensembles will perform at this concert (Year 2 Strings\, Beginner Band\, Adagio Strings\, Red Shirt Choir\, Lento Strings\, Junior School Choir\, Junior Wind Band\, Jazz Ensemble). \n 
URL:https://www.stpaulsmusic.com.au/event/junior-ensembles-concert-tbc/
LOCATION:Walker Centre\, 34 Strathpine Road\, Bald Hills\, Queensland\, 4036\, Australia
END:VEVENT
BEGIN:VEVENT
DTSTART;VALUE=DATE:20221017
DTEND;VALUE=DATE:20221018
DTSTAMP:20260422T181003
CREATED:20220912T014703Z
LAST-MODIFIED:20220912T014703Z
UID:13533-1665964800-1666051199@www.stpaulsmusic.com.au
SUMMARY:Beginner Band at St Columbans' Band Spectacular
DESCRIPTION:Beginner Band will be leaving from school to perform in this event. Details about the event will be sent to parents closer to the time.
URL:https://www.stpaulsmusic.com.au/event/beginner-band-at-st-columbans-band-spectacular/
LOCATION:St Columbans School
END:VEVENT
BEGIN:VEVENT
DTSTART;TZID=Australia/Brisbane:20221026T153000
DTEND;TZID=Australia/Brisbane:20221026T163000
DTSTAMP:20260422T181003
CREATED:20220912T013942Z
LAST-MODIFIED:20220912T013942Z
UID:13531-1666798200-1666801800@www.stpaulsmusic.com.au
SUMMARY:Year 2 Strings Break-up and Parent Concert
DESCRIPTION:Year 2 Strings will perform for their parents at their last rehearsal of the year. Mrs Gibbs will send more details to parents about this closer to the time.
URL:https://www.stpaulsmusic.com.au/event/year-2-strings-break-up-and-parent-concert/
LOCATION:Music Centre\, 34 Strathpine Road\, Bald Hills\, Queensland\, 4036\, Australia
END:VEVENT
END:VCALENDAR