BEGIN:VCALENDAR
VERSION:2.0
PRODID:-//St Paul&#039;s Music - ECPv6.15.20//NONSGML v1.0//EN
CALSCALE:GREGORIAN
METHOD:PUBLISH
X-ORIGINAL-URL:https://www.stpaulsmusic.com.au
X-WR-CALDESC:Events for St Paul&#039;s Music
REFRESH-INTERVAL;VALUE=DURATION:PT1H
X-Robots-Tag:noindex
X-PUBLISHED-TTL:PT1H
BEGIN:VTIMEZONE
TZID:Australia/Brisbane
BEGIN:STANDARD
TZOFFSETFROM:+1000
TZOFFSETTO:+1000
TZNAME:AEST
DTSTART:20220101T000000
END:STANDARD
END:VTIMEZONE
BEGIN:VEVENT
DTSTART;TZID=Australia/Brisbane:20230304T133000
DTEND;TZID=Australia/Brisbane:20230306T151000
DTSTAMP:20260422T095609
CREATED:20230116T083533Z
LAST-MODIFIED:20230116T083533Z
UID:13568-1677936600-1678115400@www.stpaulsmusic.com.au
SUMMARY:Music Camp
DESCRIPTION:Allegretto Strings and Concert Band members\, plus secondary Music Captains\, will attend this camp at Luther Heights. Students involved with the camp will be sent detailed information.
URL:https://www.stpaulsmusic.com.au/event/music-camp-3/
LOCATION:Queensland
END:VEVENT
BEGIN:VEVENT
DTSTART;TZID=Australia/Brisbane:20230306T183000
DTEND;TZID=Australia/Brisbane:20230306T200000
DTSTAMP:20260422T095609
CREATED:20230117T214958Z
LAST-MODIFIED:20230117T214958Z
UID:13621-1678127400-1678132800@www.stpaulsmusic.com.au
SUMMARY:Music Supporters' Group meeting - AGM
DESCRIPTION:All Music parents/carers are welcome to attend the monthly Music Supporters’ Group meetings in the Music Centre. The Music Supporters’ Group helps the Music department by assisting with events such as Con Brio and Music in the Dark\, fundraising for instruments and generally lifting the profile of Music within the School community. \nThis meeting is the AGM\, at which executive positions are dissolved and members can elect new holders of executive positions. \nInquiries about the MSG can be directed to the MSG President by emailing msgpresident@spssa.org\, or parents/carers are welcome just to turn up at the meetings.
URL:https://www.stpaulsmusic.com.au/event/music-supporters-group-meeting-agm-2/
LOCATION:Music Centre\, 34 Strathpine Road\, Bald Hills\, Queensland\, 4036\, Australia
END:VEVENT
BEGIN:VEVENT
DTSTART;TZID=Australia/Brisbane:20230321T183000
DTEND;TZID=Australia/Brisbane:20230321T200000
DTSTAMP:20260422T095609
CREATED:20230223T080425Z
LAST-MODIFIED:20230223T080425Z
UID:13683-1679423400-1679428800@www.stpaulsmusic.com.au
SUMMARY:Year 11 Performance Evening
DESCRIPTION:Year 11 curricular Music students will be performing as part of their FA1 assessment item. Family and friends are welcome to this recital\, as are younger Music students who are considering taking Senior Music.
URL:https://www.stpaulsmusic.com.au/event/year-11-performance-evening/
LOCATION:Music Centre\, 34 Strathpine Road\, Bald Hills\, Queensland\, 4036\, Australia
ATTACH;FMTTYPE=image/png:https://www.stpaulsmusic.com.au/wp-content/uploads/2023/02/Year-11-Performance-Evening-Presentation-4.png
END:VEVENT
END:VCALENDAR