BEGIN:VCALENDAR
VERSION:2.0
PRODID:-//St Paul&#039;s Music - ECPv6.15.20//NONSGML v1.0//EN
CALSCALE:GREGORIAN
METHOD:PUBLISH
X-WR-CALNAME:St Paul&#039;s Music
X-ORIGINAL-URL:https://www.stpaulsmusic.com.au
X-WR-CALDESC:Events for St Paul&#039;s Music
REFRESH-INTERVAL;VALUE=DURATION:PT1H
X-Robots-Tag:noindex
X-PUBLISHED-TTL:PT1H
BEGIN:VTIMEZONE
TZID:Australia/Brisbane
BEGIN:STANDARD
TZOFFSETFROM:+1000
TZOFFSETTO:+1000
TZNAME:AEST
DTSTART:20220101T000000
END:STANDARD
END:VTIMEZONE
BEGIN:VEVENT
DTSTART;TZID=Australia/Brisbane:20230422T140000
DTEND;TZID=Australia/Brisbane:20230423T150000
DTSTAMP:20260422T081650
CREATED:20230117T034422Z
LAST-MODIFIED:20230124T231250Z
UID:13570-1682172000-1682262000@www.stpaulsmusic.com.au
SUMMARY:Choral Retreat
DESCRIPTION:Members of St Paul’s Singers will attend this two day-one night camp at Kurwongbah where they will be involved in intensive rehearsals and sectionals. More information to come.
URL:https://www.stpaulsmusic.com.au/event/choral-retreat/
LOCATION:Camp Warrawee\, 81 Byrnes Road North\, Joyner\, Queensland\, 4500\, Australia
END:VEVENT
BEGIN:VEVENT
DTSTART;TZID=Australia/Brisbane:20230424T183000
DTEND;TZID=Australia/Brisbane:20230424T200000
DTSTAMP:20260422T081650
CREATED:20230117T215037Z
LAST-MODIFIED:20230117T215037Z
UID:13623-1682361000-1682366400@www.stpaulsmusic.com.au
SUMMARY:Music Supporters' Group meeting
DESCRIPTION:All Music parents/carers are welcome to attend the monthly Music Supporters’ Group meetings in the Music Centre. The Music Supporters’ Group helps the Music department by assisting with events such as Con Brio and Music in the Dark\, fundraising for instruments and generally lifting the profile of Music within the School community. \nInquiries about the MSG can be directed to the MSG President by emailing msgpresident@spssa.org\, or parents/carers are welcome just to turn up at the meetings.
URL:https://www.stpaulsmusic.com.au/event/music-supporters-group-meeting-4/
LOCATION:Music Centre\, 34 Strathpine Road\, Bald Hills\, Queensland\, 4036\, Australia
END:VEVENT
END:VCALENDAR