BEGIN:VCALENDAR
VERSION:2.0
PRODID:-//St Paul&#039;s Music - ECPv6.15.20//NONSGML v1.0//EN
CALSCALE:GREGORIAN
METHOD:PUBLISH
X-ORIGINAL-URL:https://www.stpaulsmusic.com.au
X-WR-CALDESC:Events for St Paul&#039;s Music
REFRESH-INTERVAL;VALUE=DURATION:PT1H
X-Robots-Tag:noindex
X-PUBLISHED-TTL:PT1H
BEGIN:VTIMEZONE
TZID:Australia/Brisbane
BEGIN:STANDARD
TZOFFSETFROM:+1000
TZOFFSETTO:+1000
TZNAME:AEST
DTSTART:20220101T000000
END:STANDARD
END:VTIMEZONE
BEGIN:VEVENT
DTSTART;TZID=Australia/Brisbane:20230502T080000
DTEND;TZID=Australia/Brisbane:20230502T170000
DTSTAMP:20260422T063837
CREATED:20230501T235248Z
LAST-MODIFIED:20230501T235248Z
UID:13718-1683014400-1683046800@www.stpaulsmusic.com.au
SUMMARY:Singers + Chamber Strings @ PM Aged Care
DESCRIPTION:Students from St Paul’s Singers and Chamber Strings will be performing at PM Aged Care\, leaving school at 12.45pm and returning at 3pm. More information will be sent to parents and students closer to the date.
URL:https://www.stpaulsmusic.com.au/event/singers-chamber-strings-pm-aged-care/
LOCATION:PM Aged Care\, 1929 Gympie Rd\, Bald Hills\, Queensland\, 4036\, Australia
END:VEVENT
BEGIN:VEVENT
DTSTART;VALUE=DATE:20230508
DTEND;VALUE=DATE:20230520
DTSTAMP:20260422T063837
CREATED:20230117T034721Z
LAST-MODIFIED:20230117T034721Z
UID:13572-1683504000-1684540799@www.stpaulsmusic.com.au
SUMMARY:Solo Competition - Round 1 Auditions
DESCRIPTION:Students in Years 7 to 12 will audition to be part of this year’s St Paul’s Music Solo Competition. Auditions will occur during lunchtimes in Weeks 4 and 5 of Term 2. More information to come.
URL:https://www.stpaulsmusic.com.au/event/solo-competition-round-1-auditions/
LOCATION:Music Centre\, 34 Strathpine Road\, Bald Hills\, Queensland\, 4036\, Australia
END:VEVENT
BEGIN:VEVENT
DTSTART;VALUE=DATE:20230508
DTEND;VALUE=DATE:20230509
DTSTAMP:20260422T063837
CREATED:20230123T220400Z
LAST-MODIFIED:20230418T003801Z
UID:13636-1683504000-1683590399@www.stpaulsmusic.com.au
SUMMARY:Queensland Youth Music Awards - Chamber Strings and Allegretto Strings (see details for arrival times)
DESCRIPTION:Chamber Strings and Allegretto Strings will perform at St Peter’s Lutheran College\, Indooroopilly as part of this year’s Queensland Youth Music Awards. Both ensembles are to wear full performance uniform and bring their own music\, rosin\, rock stops\, spare strings\, etc. \n\nAllegretto Strings – arrive 5.30pm\, finish by 7.30pm\nChamber Strings – arrive 7.45pm\, finish by 10.00pm
URL:https://www.stpaulsmusic.com.au/event/queensland-youth-music-awards-chamber-strings-and-allegretto-strings/
LOCATION:St Peter’s Lutheran College\, 66 Harts Road\, Indooroopilly\, Queensland\, 4068\, Australia
END:VEVENT
BEGIN:VEVENT
DTSTART;VALUE=DATE:20230510
DTEND;VALUE=DATE:20230511
DTSTAMP:20260422T063837
CREATED:20230123T220444Z
LAST-MODIFIED:20230418T005604Z
UID:13639-1683676800-1683763199@www.stpaulsmusic.com.au
SUMMARY:Queensland Youth Music Awards (Lento Strings)
DESCRIPTION:Lento Strings will perform at St Peter’s Lutheran College\, Indooroopilly as part of this year’s Queensland Youth Music Awards.  Students are to wear their best School uniform. \nArrival time: 5.45pm
URL:https://www.stpaulsmusic.com.au/event/queensland-youth-music-awards-lento-strings/
LOCATION:St Peter’s Lutheran College\, 66 Harts Road\, Indooroopilly\, Queensland\, 4068\, Australia
END:VEVENT
BEGIN:VEVENT
DTSTART;TZID=Australia/Brisbane:20230516T193000
DTEND;TZID=Australia/Brisbane:20230516T220000
DTSTAMP:20260422T063837
CREATED:20230223T075817Z
LAST-MODIFIED:20230516T053325Z
UID:13681-1684265400-1684274400@www.stpaulsmusic.com.au
SUMMARY:Brisbane Youth Jazz Festival
DESCRIPTION:Big Band members will perform at the Brisbane Youth Big Band Festival\, run by the Brisbane Jazz Club. This will be held at BEMAC at Kangaroo Point. Performers are to wear full performance uniform and bring their own music\, reeds\, valve oil\, etc. \nArrival time: 7.30pm \nFinish time: 10.00pm
URL:https://www.stpaulsmusic.com.au/event/brisbane-youth-jazz-festival-2/
LOCATION:BEMAC\, 102 Main St\, Kangaroo Point\, Queensland\, 4169\, Australia
END:VEVENT
BEGIN:VEVENT
DTSTART;VALUE=DATE:20230517
DTEND;VALUE=DATE:20230518
DTSTAMP:20260422T063837
CREATED:20230123T220637Z
LAST-MODIFIED:20230516T053540Z
UID:13644-1684281600-1684367999@www.stpaulsmusic.com.au
SUMMARY:CANCELLED - Queensland Youth Music Awards (Concert Band)
DESCRIPTION:Concert Band will perform at St Peter’s Lutheran College\, Indooroopilly as part of this year’s Queensland Youth Music Awards. Students are to wear full Performance Uniform. \nArrival time: 7.15pm
URL:https://www.stpaulsmusic.com.au/event/queensland-youth-music-awards-concert-band/
LOCATION:St Peter’s Lutheran College\, 66 Harts Road\, Indooroopilly\, Queensland\, 4068\, Australia
END:VEVENT
BEGIN:VEVENT
DTSTART;VALUE=DATE:20230519
DTEND;VALUE=DATE:20230520
DTSTAMP:20260422T063837
CREATED:20230123T220528Z
LAST-MODIFIED:20230418T004206Z
UID:13641-1684454400-1684540799@www.stpaulsmusic.com.au
SUMMARY:Queensland Youth Music Awards (Wind Ensemble)
DESCRIPTION:Wind Ensemble will perform at St Peter’s Lutheran College\, Indooroopilly as part of this year’s Queensland Youth Music Awards. Students are to wear full Performance Uniform. \nStudents will depart school by bus at 2.50pm. Performance time is 5.30pm. Finish time is 7.30pm
URL:https://www.stpaulsmusic.com.au/event/queensland-youth-music-awards/
LOCATION:St Peter’s Lutheran College\, 66 Harts Road\, Indooroopilly\, Queensland\, 4068\, Australia
END:VEVENT
BEGIN:VEVENT
DTSTART;TZID=Australia/Brisbane:20230527T150000
DTEND;TZID=Australia/Brisbane:20230527T200000
DTSTAMP:20260422T063837
CREATED:20230117T034919Z
LAST-MODIFIED:20230117T034919Z
UID:13574-1685199600-1685217600@www.stpaulsmusic.com.au
SUMMARY:Music in the Dark
DESCRIPTION:All ensembles will perform in the annual Music in the Dark festival. This outdoor performance day will be held outside Walker 1 and in the Great Courtyard. Food and drink will be available for purchase\, provided by the Music Supporters’ Group. More information and performance schedule to come.
URL:https://www.stpaulsmusic.com.au/event/music-in-the-dark-4/
LOCATION:Walker Centre\, 34 Strathpine Road\, Bald Hills\, Queensland\, 4036\, Australia
END:VEVENT
END:VCALENDAR