BEGIN:VCALENDAR
VERSION:2.0
PRODID:-//St Paul&#039;s Music - ECPv6.15.20//NONSGML v1.0//EN
CALSCALE:GREGORIAN
METHOD:PUBLISH
X-ORIGINAL-URL:https://www.stpaulsmusic.com.au
X-WR-CALDESC:Events for St Paul&#039;s Music
REFRESH-INTERVAL;VALUE=DURATION:PT1H
X-Robots-Tag:noindex
X-PUBLISHED-TTL:PT1H
BEGIN:VTIMEZONE
TZID:Australia/Brisbane
BEGIN:STANDARD
TZOFFSETFROM:+1000
TZOFFSETTO:+1000
TZNAME:AEST
DTSTART:20220101T000000
END:STANDARD
END:VTIMEZONE
BEGIN:VEVENT
DTSTART;VALUE=DATE:20230716
DTEND;VALUE=DATE:20230717
DTSTAMP:20260422T032435
CREATED:20230117T040757Z
LAST-MODIFIED:20230709T025211Z
UID:13583-1689465600-1689551999@www.stpaulsmusic.com.au
SUMMARY:Brisbane Sings! - Rehearsal 1
DESCRIPTION:Students in St Paul’s Chorus will attend this rehearsal in preparation for Brisbane Sings! – a gala concert featuring choirs from all around Brisbane performing combined pieces at QPAC. \n\n\n9.00am-1.00pm rehearsal – arrive 8.50am and check in with Mrs Green \n\n\nCraigslea State School Auditorium (NOT the High School which is next door to the west) \n\n\n685 Hamilton Rd\, Chermside West (Google Maps link) \n\n\n\nStudents can wear free dress to this rehearsal\nStudents should bring their own music (there will be no spare copies available)\, a water bottle\, and a snack for morning tea
URL:https://www.stpaulsmusic.com.au/event/brisbane-sings-rehearsal-1/
LOCATION:Queensland
END:VEVENT
BEGIN:VEVENT
DTSTART;VALUE=DATE:20230723
DTEND;VALUE=DATE:20230724
DTSTAMP:20260422T032435
CREATED:20230117T040856Z
LAST-MODIFIED:20230718T224459Z
UID:13585-1690070400-1690156799@www.stpaulsmusic.com.au
SUMMARY:Jazzin' Up The Mall
DESCRIPTION:The following ensembles will perform at the top of the Queen Street Mall (the casino end). Students are to arrive at least half an hour before their performance time. Blazers are to be worn over the top of Performance Uniform. \n\n9.45am – Lento Strings\n10.00am – Symphony Orchestra\n10.15am – Allegretto Strings\n10.30am – Chamber Strings\n10.45am – Wind Ensemble\n1.15pm – Concert Band\n1.45pm – Guitar Ensemble\n2.00pm – Jazz Ensemble\n2.15pm – Big Band
URL:https://www.stpaulsmusic.com.au/event/jazzin-up-the-mall-tbc/
LOCATION:Queen Street Mall\, Queen Street Mall\, Brisbane\, Queensland\, 4000\, Australia
END:VEVENT
END:VCALENDAR