BEGIN:VCALENDAR
VERSION:2.0
PRODID:-//St Paul&#039;s Music - ECPv6.15.20//NONSGML v1.0//EN
CALSCALE:GREGORIAN
METHOD:PUBLISH
X-ORIGINAL-URL:https://www.stpaulsmusic.com.au
X-WR-CALDESC:Events for St Paul&#039;s Music
REFRESH-INTERVAL;VALUE=DURATION:PT1H
X-Robots-Tag:noindex
X-PUBLISHED-TTL:PT1H
BEGIN:VTIMEZONE
TZID:Australia/Brisbane
BEGIN:STANDARD
TZOFFSETFROM:+1000
TZOFFSETTO:+1000
TZNAME:AEST
DTSTART:20220101T000000
END:STANDARD
END:VTIMEZONE
BEGIN:VEVENT
DTSTART;VALUE=DATE:20230804
DTEND;VALUE=DATE:20230805
DTSTAMP:20260422T014032
CREATED:20230117T040945Z
LAST-MODIFIED:20230803T225617Z
UID:13587-1691107200-1691193599@www.stpaulsmusic.com.au
SUMMARY:Pine Rivers Show
DESCRIPTION:Selected Junior ensembles will perform at the Pine Rivers Show. Students will travel by bus from school and back\, and parents and teachers will be notified of the bus times closer to the date. Members of the public are welcome to attend the performances. \n\n10.15 am :   Jnr Wind Band\n10.45 am :  Beginner Band\n11.30 am :   Jnr School Choir\n12.30 pm :   Adagio Strings
URL:https://www.stpaulsmusic.com.au/event/pine-rivers-show-2/
LOCATION:Pine Rivers Showgrounds\, 757 Gympie Road\, Lawnton\, Queensland\, 4501\, Australia
END:VEVENT
BEGIN:VEVENT
DTSTART;TZID=Australia/Brisbane:20230804T183000
DTEND;TZID=Australia/Brisbane:20230804T200000
DTSTAMP:20260422T014032
CREATED:20230517T075519Z
LAST-MODIFIED:20230517T075519Z
UID:13728-1691173800-1691179200@www.stpaulsmusic.com.au
SUMMARY:Jazz @ JMI
DESCRIPTION:Stage Band and Big Band will be performing at the Jazz Music Institute\, along with the JMI Jazz Orchestra. Details will be released closer to the event.
URL:https://www.stpaulsmusic.com.au/event/jazz-jmi/
LOCATION:JMI\, 1/47 Brookes St\, Bowen Hills\, Queensland\, 4006\, Australia
END:VEVENT
BEGIN:VEVENT
DTSTART;VALUE=DATE:20230806
DTEND;VALUE=DATE:20230807
DTSTAMP:20260422T014032
CREATED:20230117T041049Z
LAST-MODIFIED:20230709T025237Z
UID:13589-1691280000-1691366399@www.stpaulsmusic.com.au
SUMMARY:Brisbane Sings! - Rehearsal 2
DESCRIPTION:Students in St Paul’s Chorus will attend this rehearsal in preparation for Brisbane Sings! – a gala concert featuring choirs from all around Brisbane performing combined pieces at QPAC. \n\n\n9.00am-1.00pm rehearsal – arrive 8.50am and check in with Mrs Green \n\n\nCraigslea State School Auditorium (NOT the High School which is next door to the west) \n\n\n685 Hamilton Rd\, Chermside West (Google Maps link) \n\n\n\nStudents can wear free dress to this rehearsal\nStudents should bring their own music (there will be no spare copies available)\, a water bottle\, and a snack for morning tea
URL:https://www.stpaulsmusic.com.au/event/brisbane-sings-rehearsal-2/
LOCATION:Queensland
END:VEVENT
BEGIN:VEVENT
DTSTART;TZID=Australia/Brisbane:20230807T183000
DTEND;TZID=Australia/Brisbane:20230807T200000
DTSTAMP:20260422T014032
CREATED:20230117T215150Z
LAST-MODIFIED:20230118T011618Z
UID:13628-1691433000-1691438400@www.stpaulsmusic.com.au
SUMMARY:Music Supporters' Group meeting
DESCRIPTION:All Music parents/carers are welcome to attend the monthly Music Supporters’ Group meetings in the Music Centre. The Music Supporters’ Group helps the Music department by assisting with events such as Con Brio and Music in the Dark\, fundraising for instruments and generally lifting the profile of Music within the School community. \nInquiries about the MSG can be directed to the MSG President by emailing msgpresident@spssa.org\, or parents/carers are welcome just to turn up at the meetings.
URL:https://www.stpaulsmusic.com.au/event/music-supporters-group-meeting-8/
LOCATION:Music Centre\, 34 Strathpine Road\, Bald Hills\, Queensland\, 4036\, Australia
END:VEVENT
BEGIN:VEVENT
DTSTART;TZID=Australia/Brisbane:20230821T180000
DTEND;TZID=Australia/Brisbane:20230821T210000
DTSTAMP:20260422T014032
CREATED:20230117T041223Z
LAST-MODIFIED:20230709T025409Z
UID:13591-1692640800-1692651600@www.stpaulsmusic.com.au
SUMMARY:Brisbane Sings! - soundcheck and run-through
DESCRIPTION:Students in St Paul’s Chorus will attend this soundcheck and run-through in preparation for Brisbane Sings! – a gala concert featuring choirs from all around Brisbane performing combined pieces at QPAC. \nVenue is yet to be confirmed. If the rehearsal is at QPAC\, a bus will be provided. If the rehearsal is at Craigslea\, students will need to make their own way to and from the rehearsal. Details will be released closer to the time.
URL:https://www.stpaulsmusic.com.au/event/brisbane-sings-soundcheck-and-run-through/
LOCATION:QPAC\, corner of Grey and Melbourne Streets\, South Bank\, Queensland\, 4101\, Australia
END:VEVENT
BEGIN:VEVENT
DTSTART;TZID=Australia/Brisbane:20230827T103000
DTEND;TZID=Australia/Brisbane:20230827T200000
DTSTAMP:20260422T014032
CREATED:20230117T041340Z
LAST-MODIFIED:20230709T025657Z
UID:13593-1693132200-1693166400@www.stpaulsmusic.com.au
SUMMARY:Brisbane Sings! - rehearsal day and performance
DESCRIPTION:Students in St Paul’s Chorus will attend this rehearsal day in preparation for the night time performance of Brisbane Sings! – a gala concert featuring choirs from all around Brisbane performing combined pieces at QPAC. \n\n\nrehearsal from 10am \n\nperformance at 5.00pm\n\nStudents will travel by bus to QPAC\, leaving from school at 9.00am\, to the venue. After the performance\, parents will need to collect students from QPAC. \n\nStudents will need to wear their Performance Uniform and bring their Brisbane Sings t-shirt to change into during intermission.\nStudents will need to bring a water bottle\, their own music\, and food for morning tea\, afternoon tea and lunch.
URL:https://www.stpaulsmusic.com.au/event/brisbane-sings-rehearsal-day-and-performance/
LOCATION:QPAC\, corner of Grey and Melbourne Streets\, South Bank\, Queensland\, 4101\, Australia
END:VEVENT
END:VCALENDAR