BEGIN:VCALENDAR
VERSION:2.0
PRODID:-//St Paul&#039;s Music - ECPv6.15.20//NONSGML v1.0//EN
CALSCALE:GREGORIAN
METHOD:PUBLISH
X-ORIGINAL-URL:https://www.stpaulsmusic.com.au
X-WR-CALDESC:Events for St Paul&#039;s Music
REFRESH-INTERVAL;VALUE=DURATION:PT1H
X-Robots-Tag:noindex
X-PUBLISHED-TTL:PT1H
BEGIN:VTIMEZONE
TZID:Australia/Brisbane
BEGIN:STANDARD
TZOFFSETFROM:+1000
TZOFFSETTO:+1000
TZNAME:AEST
DTSTART:20250101T000000
END:STANDARD
END:VTIMEZONE
BEGIN:VEVENT
DTSTART;VALUE=DATE:20260501
DTEND;VALUE=DATE:20260502
DTSTAMP:20260420T232010
CREATED:20260223T000639Z
LAST-MODIFIED:20260223T000639Z
UID:14284-1777593600-1777679999@www.stpaulsmusic.com.au
SUMMARY:Solo Competition Round 1
DESCRIPTION:Online submission
URL:https://www.stpaulsmusic.com.au/event/solo-competition-round-1-3/
LOCATION:Queensland
END:VEVENT
BEGIN:VEVENT
DTSTART;VALUE=DATE:20260506
DTEND;VALUE=DATE:20260507
DTSTAMP:20260420T232010
CREATED:20260223T002435Z
LAST-MODIFIED:20260223T002435Z
UID:14286-1778025600-1778111999@www.stpaulsmusic.com.au
SUMMARY:QYMA - Lento TBC
DESCRIPTION:
URL:https://www.stpaulsmusic.com.au/event/qyma-lento-tbc/
LOCATION:Queensland
END:VEVENT
BEGIN:VEVENT
DTSTART;VALUE=DATE:20260507
DTEND;VALUE=DATE:20260508
DTSTAMP:20260420T232010
CREATED:20260223T002534Z
LAST-MODIFIED:20260223T002534Z
UID:14289-1778112000-1778198399@www.stpaulsmusic.com.au
SUMMARY:QYMA - Vivo TBC
DESCRIPTION:TBC
URL:https://www.stpaulsmusic.com.au/event/qyma-vivo-tbc/
LOCATION:Queensland
END:VEVENT
BEGIN:VEVENT
DTSTART;TZID=Australia/Brisbane:20260508T080000
DTEND;TZID=Australia/Brisbane:20260508T170000
DTSTAMP:20260420T232010
CREATED:20260223T002614Z
LAST-MODIFIED:20260223T002614Z
UID:14291-1778227200-1778259600@www.stpaulsmusic.com.au
SUMMARY:QYMA - Allegretto TBC
DESCRIPTION:TBC
URL:https://www.stpaulsmusic.com.au/event/qyma-allegretto-tbc/
LOCATION:Queensland
END:VEVENT
BEGIN:VEVENT
DTSTART;VALUE=DATE:20260513
DTEND;VALUE=DATE:20260514
DTSTAMP:20260420T232010
CREATED:20260318T001356Z
LAST-MODIFIED:20260318T001356Z
UID:14316-1778630400-1778716799@www.stpaulsmusic.com.au
SUMMARY:QYMA - Wind Ensemble TBC
DESCRIPTION:TBC
URL:https://www.stpaulsmusic.com.au/event/qyma-wind-ensemble-tbc/
LOCATION:St Peter’s Lutheran College\, 66 Harts Road\, Indooroopilly\, Queensland\, 4068\, Australia
END:VEVENT
BEGIN:VEVENT
DTSTART;VALUE=DATE:20260515
DTEND;VALUE=DATE:20260516
DTSTAMP:20260420T232010
CREATED:20260318T001620Z
LAST-MODIFIED:20260318T001620Z
UID:14323-1778803200-1778889599@www.stpaulsmusic.com.au
SUMMARY:QYMA - Junior School Choir TBC
DESCRIPTION:TBC
URL:https://www.stpaulsmusic.com.au/event/qyma-junior-school-choir-tbc/
LOCATION:St Peter’s Lutheran College\, 66 Harts Road\, Indooroopilly\, Queensland\, 4068\, Australia
END:VEVENT
BEGIN:VEVENT
DTSTART;VALUE=DATE:20260520
DTEND;VALUE=DATE:20260521
DTSTAMP:20260420T232010
CREATED:20260223T002715Z
LAST-MODIFIED:20260310T005942Z
UID:14294-1779235200-1779321599@www.stpaulsmusic.com.au
SUMMARY:QYMA - Concert Band TBC
DESCRIPTION:TBC \nVenue: St. Peter’s Lutheran College
URL:https://www.stpaulsmusic.com.au/event/qyma-concert-band-tbc/
LOCATION:St Peters Lutheran College\, 66 Harts Road\, Indooroopilly\, Queensland\, 4068\, Australia
END:VEVENT
BEGIN:VEVENT
DTSTART;VALUE=DATE:20260522
DTEND;VALUE=DATE:20260523
DTSTAMP:20260420T232010
CREATED:20260223T002953Z
LAST-MODIFIED:20260223T002953Z
UID:14298-1779408000-1779494399@www.stpaulsmusic.com.au
SUMMARY:QYMA - St. Paul's Singers/Chorus TBC
DESCRIPTION:TBC
URL:https://www.stpaulsmusic.com.au/event/qyma-st-pauls-singers-chorus-tbc/
LOCATION:Queensland
END:VEVENT
BEGIN:VEVENT
DTSTART;VALUE=DATE:20260525
DTEND;VALUE=DATE:20260526
DTSTAMP:20260420T232010
CREATED:20260223T003139Z
LAST-MODIFIED:20260223T003139Z
UID:14300-1779667200-1779753599@www.stpaulsmusic.com.au
SUMMARY:Solo Competition - Round 2
DESCRIPTION:Venue: Music Centre/Chapel TBC
URL:https://www.stpaulsmusic.com.au/event/solo-competition-round-2/
LOCATION:Queensland
END:VEVENT
BEGIN:VEVENT
DTSTART;VALUE=DATE:20260526
DTEND;VALUE=DATE:20260527
DTSTAMP:20260420T232010
CREATED:20260223T003232Z
LAST-MODIFIED:20260223T003232Z
UID:14302-1779753600-1779839999@www.stpaulsmusic.com.au
SUMMARY:Solo Competition - Round 2
DESCRIPTION:Venue: Music Centre/Chapel TBC
URL:https://www.stpaulsmusic.com.au/event/solo-competition-round-2-2/
LOCATION:Queensland
END:VEVENT
END:VCALENDAR