BEGIN:VCALENDAR
VERSION:2.0
PRODID:-//St Paul&#039;s Music - ECPv6.15.20//NONSGML v1.0//EN
CALSCALE:GREGORIAN
METHOD:PUBLISH
X-WR-CALNAME:St Paul&#039;s Music
X-ORIGINAL-URL:https://www.stpaulsmusic.com.au
X-WR-CALDESC:Events for St Paul&#039;s Music
REFRESH-INTERVAL;VALUE=DURATION:PT1H
X-Robots-Tag:noindex
X-PUBLISHED-TTL:PT1H
BEGIN:VTIMEZONE
TZID:Australia/Brisbane
BEGIN:STANDARD
TZOFFSETFROM:+1000
TZOFFSETTO:+1000
TZNAME:AEST
DTSTART:20250101T000000
END:STANDARD
END:VTIMEZONE
BEGIN:VEVENT
DTSTART;VALUE=DATE:20260729
DTEND;VALUE=DATE:20260730
DTSTAMP:20260421T021337
CREATED:20260318T002411Z
LAST-MODIFIED:20260318T002411Z
UID:14328-1785283200-1785369599@www.stpaulsmusic.com.au
SUMMARY:Jazz Night
DESCRIPTION:Big Band\, Friday Afternoon Jazz\, Jazz Ensemble & Stage Band. \nVenue: Brisbane Jazz Club
URL:https://www.stpaulsmusic.com.au/event/jazz-night-2/
LOCATION:Brisbane Jazz Club\, 1 Annie Street\, Kangaroo Point\, Queensland\, 4504\, Australia
END:VEVENT
BEGIN:VEVENT
DTSTART;VALUE=DATE:20260731
DTEND;VALUE=DATE:20260801
DTSTAMP:20260421T021337
CREATED:20260318T002556Z
LAST-MODIFIED:20260318T002556Z
UID:14330-1785456000-1785542399@www.stpaulsmusic.com.au
SUMMARY:Pine Rivers Show
DESCRIPTION:All Junior Ensembles \nVenue: Pine Rivers Show\, Strathpine \nTime: During school hours
URL:https://www.stpaulsmusic.com.au/event/pine-rivers-show-3/
LOCATION:Pine Rivers Showgrounds\, 757 Gympie Road\, Lawnton\, Queensland\, 4501\, Australia
END:VEVENT
END:VCALENDAR